BEGIN:VCALENDAR
VERSION:2.0
PRODID:-//eventon.com NONSGML v1.0//EN
CALSCALE:GREGORIAN
METHOD:PUBLISH
BEGIN:VEVENT
UID:69e4e8b5b68f0
DTSTAMP:20260419T143741Z
DTSTART:20230630T233000Z
DTEND:20230701T013000Z
LOCATION:Freizeit- und Jugendhaus Egg
SUMMARY:RJA-Meilen-Treffen 2/2023
DESCRIPTION:RJA-Meilen-Treffen 2/2023\nhttps://www.jagenda.ch/events/rja-me
 ilen-treffen-2-2023/
URL:https://www.jagenda.ch/events/rja-meilen-treffen-2-2023/
END:VEVENT
END:VCALENDAR