BEGIN:VCALENDAR
VERSION:2.0
PRODID:-//eventon.com NONSGML v1.0//EN
CALSCALE:GREGORIAN
METHOD:PUBLISH
BEGIN:VEVENT
UID:69e986b4014af
DTSTAMP:20260423T024052Z
DTSTART:20230429
DTEND:20230430
LOCATION:
SUMMARY:Präventionstreffen der Kantonalverbände
DESCRIPTION:Dieses Treffen dient allen Präventionsverantworlichen der Kant
 onalverbände für den Austausch und die Informationsvermittlung. Organisie
 rt wird es vom Team Prävention der PBS.\nhttps://www.jagenda.ch/events/pra
 eventionstreffen-der-kantonalverbaende/
URL:https://www.jagenda.ch/events/praeventionstreffen-der-kantonalverbaende/
END:VEVENT
END:VCALENDAR