BEGIN:VCALENDAR
VERSION:2.0
PRODID:-//eventon.com NONSGML v1.0//EN
CALSCALE:GREGORIAN
METHOD:PUBLISH
BEGIN:VEVENT
UID:69e7d4f70e7d2
DTSTAMP:20260421T195015Z
DTSTART:20230613T193000Z
DTEND:20230614T033000Z
LOCATION:Zürich
SUMMARY:Qualitätszirkel
DESCRIPTION:Voraussetzung für den Besuch eines Qualitätszirkels ist eine 
 bisherige Zusammenarbeit mit der Fachstelle Limita oder aber der vorausgehe
 nde Besuch eines Impulses.\nhttps://www.jagenda.ch/events/qualitaetszirkel-
 3/
URL:https://www.jagenda.ch/events/qualitaetszirkel-3/
END:VEVENT
END:VCALENDAR