BEGIN:VCALENDAR
VERSION:2.0
PRODID:-//eventon.com NONSGML v1.0//EN
CALSCALE:GREGORIAN
METHOD:PUBLISH
BEGIN:VEVENT
UID:69e9e04db4f8a
DTSTAMP:20260423T090309Z
DTSTART:20230831T200000Z
DTEND:20230901T000000Z
LOCATION:folgt
SUMMARY:FEJAZ 3/2023: Klassismus und Armut bei Jugendlichen
DESCRIPTION:FEJAZ 3/2023: Klassismus und Armut bei Jugendlichen\nhttps://ww
 w.jagenda.ch/events/fejaz-3-2023-klassismus-und-armut-bei-jugendlichen/
URL:https://www.jagenda.ch/events/fejaz-3-2023-klassismus-und-armut-bei-jugendlichen/
END:VEVENT
END:VCALENDAR