BEGIN:VCALENDAR
VERSION:2.0
PRODID:-//eventon.com NONSGML v1.0//EN
CALSCALE:GREGORIAN
METHOD:PUBLISH
BEGIN:VEVENT
UID:69e6492360b5a
DTSTAMP:20260420T154123Z
DTSTART:20230525T200000Z
DTEND:20230526T000000Z
LOCATION:folgt
SUMMARY:FEJAZ 2/2023: Rassismuskritische OKJA
DESCRIPTION:FEJAZ 2/2023: Rassismuskritische OKJA\nhttps://www.jagenda.ch/e
 vents/fejaz-2-2023-rassismuskritische-okja/
URL:https://www.jagenda.ch/events/fejaz-2-2023-rassismuskritische-okja/
END:VEVENT
END:VCALENDAR