BEGIN:VCALENDAR
VERSION:2.0
PRODID:-//eventon.com NONSGML v1.0//EN
CALSCALE:GREGORIAN
METHOD:PUBLISH
BEGIN:VEVENT
UID:69eabe1a44977
DTSTAMP:20260424T004930Z
DTSTART:20220602T200000Z
DTEND:20220602T230000Z
LOCATION:MOJUGA\,  Sennweidstrasse 1a\,  8608 Bubikon
SUMMARY:Jugend und Gewalt
DESCRIPTION:Jugend und Gewalt\nhttps://www.jagenda.ch/events/jugend-und-gew
 alt/
URL:https://www.jagenda.ch/events/jugend-und-gewalt/
END:VEVENT
END:VCALENDAR