BEGIN:VCALENDAR
VERSION:2.0
PRODID:-//eventon.com NONSGML v1.0//EN
CALSCALE:GREGORIAN
METHOD:PUBLISH
BEGIN:VEVENT
UID:69e70a394fe51
DTSTAMP:20260421T052513Z
DTSTART:20220519T200000Z
DTEND:20220519T230000Z
LOCATION:MOJUGA\,  Sennweidstrasse 1a\,  8608 Bubikon
SUMMARY:Öffentlichkeitsarbeit
DESCRIPTION:Öffentlichkeitsarbeit\nhttps://www.jagenda.ch/events/oeffentli
 chkeitsarbeit/
URL:https://www.jagenda.ch/events/oeffentlichkeitsarbeit/
END:VEVENT
END:VCALENDAR