BEGIN:VCALENDAR
VERSION:2.0
PRODID:-//eventon.com NONSGML v1.0//EN
CALSCALE:GREGORIAN
METHOD:PUBLISH
BEGIN:VEVENT
UID:69e96123c8c45
DTSTAMP:20260423T000035Z
DTSTART:20221003T194500Z
DTEND:20221004T040000Z
LOCATION:Alte Kaserne Kulturzentrum\,  Technikumstrasse 8\,  8403 Winterthur
SUMMARY:Schlupsi\,  dein innerer Schiedsrichter
DESCRIPTION:Schlupsi\,  dein innerer Schiedsrichter\nhttps://www.jagenda.ch
 /events/schlupsi-dein-innerer-schiedsrichter-3/
URL:https://www.jagenda.ch/events/schlupsi-dein-innerer-schiedsrichter-3/
END:VEVENT
END:VCALENDAR