BEGIN:VCALENDAR
VERSION:2.0
PRODID:-//eventon.com NONSGML v1.0//EN
CALSCALE:GREGORIAN
METHOD:PUBLISH
BEGIN:VEVENT
UID:69ecd7bc9768c
DTSTAMP:20260425T150324Z
DTSTART:20220602T200000Z
DTEND:20220604T040000Z
LOCATION:wird noch bekanntgegeben
SUMMARY:Gewaltfreie Kommunikation in der Schulsozialarbeit
DESCRIPTION:Gewaltfreie Kommunikation in der Schulsozialarbeit\nhttps://www
 .jagenda.ch/events/gewaltfreie-kommunikation-in-der-schulsozialarbeit/
URL:https://www.jagenda.ch/events/gewaltfreie-kommunikation-in-der-schulsozialarbeit/
END:VEVENT
END:VCALENDAR