BEGIN:VCALENDAR
VERSION:2.0
PRODID:-//eventon.com NONSGML v1.0//EN
CALSCALE:GREGORIAN
METHOD:PUBLISH
BEGIN:VEVENT
UID:69ed55f1e018f
DTSTAMP:20260426T000153Z
DTSTART:20220216T200000Z
DTEND:20220217T040000Z
LOCATION:Alte Kaserne Kulturzentrum\,  Technikumstrasse 8\,  8403 Winterthur
SUMMARY:Neues von Pinocchio
DESCRIPTION:\nhttps://www.jagenda.ch/events/neues-von-pinocchio/
URL:https://www.jagenda.ch/events/neues-von-pinocchio/
END:VEVENT
END:VCALENDAR