BEGIN:VCALENDAR
VERSION:2.0
PRODID:-//eventon.com NONSGML v1.0//EN
CALSCALE:GREGORIAN
METHOD:PUBLISH
BEGIN:VEVENT
UID:69e84fc75986a
DTSTAMP:20260422T043415Z
DTSTART:20211202T090000Z
DTEND:20211202T110000Z
LOCATION:Luzern
SUMMARY:RG Unterwalden
DESCRIPTION:RG Unterwalden\nhttps://www.jagenda.ch/events/rg-unterwalden-4/
URL:https://www.jagenda.ch/events/rg-unterwalden-4/
END:VEVENT
END:VCALENDAR