BEGIN:VCALENDAR
VERSION:2.0
PRODID:-//eventon.com NONSGML v1.0//EN
CALSCALE:GREGORIAN
METHOD:PUBLISH
BEGIN:VEVENT
UID:69e659f5a4319
DTSTAMP:20260420T165309Z
DTSTART:20211210T113000Z
DTEND:20211210T133000Z
LOCATION:Zumikon
SUMMARY:RJA Meilen Netzwerktreffen: Input Rückblick 2021 und Planung 2022
DESCRIPTION:RJA Meilen Netzwerktreffen: Input Rückblick 2021 und Planung 2
 022\nhttps://www.jagenda.ch/events/rja-meilen-netzwerktreffen-input-rueckbl
 ick-2021-und-planung-2022/
URL:https://www.jagenda.ch/events/rja-meilen-netzwerktreffen-input-rueckblick-2021-und-planung-2022/
END:VEVENT
END:VCALENDAR