BEGIN:VCALENDAR
VERSION:2.0
PRODID:-//eventon.com NONSGML v1.0//EN
CALSCALE:GREGORIAN
METHOD:PUBLISH
BEGIN:VEVENT
UID:69eb8440773da
DTSTAMP:20260424T145456Z
DTSTART:20221028T100000Z
DTEND:20221029T160000Z
LOCATION:HFS Zizers Höhere Fachschule für Sozialpädagogik Kantonsstrasse 8 7205 Zizers
SUMMARY:masshalten
DESCRIPTION:masshalten\nhttps://www.jagenda.ch/events/masshalten-3/
URL:https://www.jagenda.ch/events/masshalten-3/
END:VEVENT
END:VCALENDAR