BEGIN:VCALENDAR
VERSION:2.0
PRODID:-//eventon.com NONSGML v1.0//EN
CALSCALE:GREGORIAN
METHOD:PUBLISH
BEGIN:VEVENT
UID:69e8710cc23dd
DTSTAMP:20260422T065612Z
DTSTART:20211028T070000Z
DTEND:20211028T093000Z
LOCATION:offen
SUMMARY:Vernetzungstreffen Region Olten
DESCRIPTION:Vernetzungstreffen Region Olten\nhttps://www.jagenda.ch/events/
 vernetzungstreffen-region-olten-2/
URL:https://www.jagenda.ch/events/vernetzungstreffen-region-olten-2/
END:VEVENT
END:VCALENDAR