BEGIN:VCALENDAR
VERSION:2.0
PRODID:-//eventon.com NONSGML v1.0//EN
CALSCALE:GREGORIAN
METHOD:PUBLISH
BEGIN:VEVENT
UID:69e9757d5f6be
DTSTAMP:20260423T012725Z
DTSTART:20220128T104500Z
DTEND:20220128T133000Z
LOCATION:Dübendorf
SUMMARY:Fachgruppe JUMOVE
DESCRIPTION:Fachgruppe JUMOVE\nhttps://www.jagenda.ch/events/fachgruppe-jum
 ove-6/
URL:https://www.jagenda.ch/events/fachgruppe-jumove-6/
END:VEVENT
END:VCALENDAR