BEGIN:VCALENDAR
VERSION:2.0
PRODID:-//eventon.com NONSGML v1.0//EN
CALSCALE:GREGORIAN
METHOD:PUBLISH
BEGIN:VEVENT
UID:69e66397c4f1e
DTSTAMP:20260420T173415Z
DTSTART:20210607T170000Z
DTEND:20210607T190000Z
LOCATION:Zürich
SUMMARY:Konferenz der Jugendverbände im Kanton Zürich
DESCRIPTION:Konferenz der Jugendverbände im Kanton Zürich\nhttps://www.ja
 genda.ch/events/konferenz-der-jugendverbaende-im-kanton-zuerich-kjz-2/
URL:https://www.jagenda.ch/events/konferenz-der-jugendverbaende-im-kanton-zuerich-kjz-2/
END:VEVENT
END:VCALENDAR