BEGIN:VCALENDAR
VERSION:2.0
PRODID:-//eventon.com NONSGML v1.0//EN
CALSCALE:GREGORIAN
METHOD:PUBLISH
BEGIN:VEVENT
UID:69e6865a50e05
DTSTAMP:20260420T200234Z
DTSTART:20210317T080000Z
DTEND:20210317T103000Z
LOCATION:Küssnacht
SUMMARY:RG Urschweiz
DESCRIPTION:RG Urschweiz\nhttps://www.jagenda.ch/events/rg-urschweiz-4/
URL:https://www.jagenda.ch/events/rg-urschweiz-4/
END:VEVENT
END:VCALENDAR