BEGIN:VCALENDAR
VERSION:2.0
PRODID:-//eventon.com NONSGML v1.0//EN
CALSCALE:GREGORIAN
METHOD:PUBLISH
BEGIN:VEVENT
UID:69ec1cbe0c704
DTSTAMP:20260425T014534Z
DTSTART:20211125T140000Z
DTEND:20211125T160000Z
LOCATION:Mettmenstetten
SUMMARY:RJS-Netzwerktreffen
DESCRIPTION:RJS-Netzwerktreffen\nhttps://www.jagenda.ch/events/rjs-netzwerk
 treffen-6/
URL:https://www.jagenda.ch/events/rjs-netzwerktreffen-6/
END:VEVENT
END:VCALENDAR