BEGIN:VCALENDAR
VERSION:2.0
PRODID:-//eventon.com NONSGML v1.0//EN
CALSCALE:GREGORIAN
METHOD:PUBLISH
BEGIN:VEVENT
UID:69eaf08d47b3a
DTSTAMP:20260424T042445Z
DTSTART:20211112T080000Z
DTEND:20211113T160000Z
LOCATION:Beratungsstelle CASTAGNA\,  Zürich
SUMMARY:WO HÖRT DAS SPIEL AUF?
DESCRIPTION:WO HÖRT DAS SPIEL AUF?\nhttps://www.jagenda.ch/events/wo-hoert
 -das-spiel-auf-3/
URL:https://www.jagenda.ch/events/wo-hoert-das-spiel-auf-3/
END:VEVENT
END:VCALENDAR