BEGIN:VCALENDAR
VERSION:2.0
PRODID:-//eventon.com NONSGML v1.0//EN
CALSCALE:GREGORIAN
METHOD:PUBLISH
BEGIN:VEVENT
UID:69ed3cfa74a43
DTSTAMP:20260425T221522Z
DTSTART:20210604
DTEND:20210605
LOCATION:Beratungsstelle CASTAGNA\,  Zürich
SUMMARY:TRAUMA UND TRAUMAFOLGEN
DESCRIPTION:TRAUMA UND TRAUMAFOLGEN\nhttps://www.jagenda.ch/events/trauma-u
 nd-traumafolgen/
URL:https://www.jagenda.ch/events/trauma-und-traumafolgen/
END:VEVENT
END:VCALENDAR