BEGIN:VCALENDAR
VERSION:2.0
PRODID:-//eventon.com NONSGML v1.0//EN
CALSCALE:GREGORIAN
METHOD:PUBLISH
BEGIN:VEVENT
UID:69e90bc195ac6
DTSTAMP:20260422T175617Z
DTSTART:20210719
DTEND:20210720
LOCATION:unterwegs in den Schweizer Bergen
SUMMARY:Kantonaler Firmkurs
DESCRIPTION:Kantonaler Firmkurs\nhttps://www.jagenda.ch/events/kantonaler-f
 irmkurs/
URL:https://www.jagenda.ch/events/kantonaler-firmkurs/
END:VEVENT
END:VCALENDAR