BEGIN:VCALENDAR
VERSION:2.0
PRODID:-//eventon.com NONSGML v1.0//EN
CALSCALE:GREGORIAN
METHOD:PUBLISH
BEGIN:VEVENT
UID:69e6da857648f
DTSTAMP:20260421T020141Z
DTSTART:20210703
DTEND:20210704
LOCATION:folgt
SUMMARY:Kantonale Wallfahrt
DESCRIPTION:Kantonale Wallfahrt\nhttps://www.jagenda.ch/events/kantonale-wa
 llfahrt/
URL:https://www.jagenda.ch/events/kantonale-wallfahrt/
END:VEVENT
END:VCALENDAR