BEGIN:VCALENDAR
VERSION:2.0
PRODID:-//eventon.com NONSGML v1.0//EN
CALSCALE:GREGORIAN
METHOD:PUBLISH
BEGIN:VEVENT
UID:69e975e15b83d
DTSTAMP:20260423T012905Z
DTSTART:20211009
DTEND:20211010
LOCATION:Jungscharhaus Brunnersberg Brunnersbergstrasse 27\,  4717 Mümliswil-Ramiswil\, 
SUMMARY:Lagerleiterausbildung (Teil 2/2)
DESCRIPTION:Lagerleiterausbildung (Teil 2/2)\nhttps://www.jagenda.ch/events
 /leiterausbildung-2021-2-teil/
URL:https://www.jagenda.ch/events/leiterausbildung-2021-2-teil/
END:VEVENT
END:VCALENDAR