BEGIN:VCALENDAR
VERSION:2.0
PRODID:-//eventon.com NONSGML v1.0//EN
CALSCALE:GREGORIAN
METHOD:PUBLISH
BEGIN:VEVENT
UID:69e8657e3d4db
DTSTAMP:20260422T060654Z
DTSTART:20210911
DTEND:20210912
LOCATION:Stäfa
SUMMARY:J+S-EXPERTENKURS
DESCRIPTION:J+S-EXPERTENKURS\nhttps://www.jagenda.ch/events/js-expertenkurs
 -2/
URL:https://www.jagenda.ch/events/js-expertenkurs-2/
END:VEVENT
END:VCALENDAR