BEGIN:VCALENDAR
VERSION:2.0
PRODID:-//eventon.com NONSGML v1.0//EN
CALSCALE:GREGORIAN
METHOD:PUBLISH
BEGIN:VEVENT
UID:69eba526a0b00
DTSTAMP:20260424T171518Z
DTSTART:20210826T083000Z
DTEND:20210826T093000Z
LOCATION:Centrum 66 Hirschengraben 66 8001 Zürich
SUMMARY:JUGENDarbeitZHmorge
DESCRIPTION:JUGENDarbeitZHmorge\nhttps://www.jagenda.ch/events/jugendarbeit
 zhmorge-8/
URL:https://www.jagenda.ch/events/jugendarbeitzhmorge-8/
END:VEVENT
END:VCALENDAR