BEGIN:VCALENDAR
VERSION:2.0
PRODID:-//eventon.com NONSGML v1.0//EN
CALSCALE:GREGORIAN
METHOD:PUBLISH
BEGIN:VEVENT
UID:69e552771d37a
DTSTAMP:20260419T220855Z
DTSTART:20210519T064500Z
DTEND:20210519T150000Z
LOCATION:Familynetwork\,  Zofingen
SUMMARY:«Tool Time!» Kreative Beratungsmethoden
DESCRIPTION:«Tool Time!» Kreative Beratungsmethoden\nhttps://www.jagenda.
 ch/events/tool-time-kreative-beratungsmethoden/
URL:https://www.jagenda.ch/events/tool-time-kreative-beratungsmethoden/
END:VEVENT
END:VCALENDAR