BEGIN:VCALENDAR
VERSION:2.0
PRODID:-//eventon.com NONSGML v1.0//EN
CALSCALE:GREGORIAN
METHOD:PUBLISH
BEGIN:VEVENT
UID:69eb6550b986d
DTSTAMP:20260424T124256Z
DTSTART:20201124T073000Z
DTEND:20201124T140000Z
LOCATION:Paulus Akademie Pfingstweidstrasse 28 8005 Zürich
SUMMARY:Identitätsentwicklung in einer sich wandelnden Arbeitswelt
DESCRIPTION:Identitätsentwicklung in einer sich wandelnden Arbeitswelt\nht
 tps://www.jagenda.ch/events/identitaetsentwicklung-in-einer-sich-wandelnden
 -arbeitswelt/
URL:https://www.jagenda.ch/events/identitaetsentwicklung-in-einer-sich-wandelnden-arbeitswelt/
END:VEVENT
END:VCALENDAR