BEGIN:VCALENDAR
VERSION:2.0
PRODID:-//eventon.com NONSGML v1.0//EN
CALSCALE:GREGORIAN
METHOD:PUBLISH
BEGIN:VEVENT
UID:69e4e66b3414d
DTSTAMP:20260419T142755Z
DTSTART:20201022T090000Z
DTEND:20201023T130000Z
LOCATION:Zürich
SUMMARY:Das neue Marburger Verhaltenstraining MVT
DESCRIPTION:Das neue Marburger Verhaltenstraining MVT\nhttps://www.jagenda.
 ch/events/das-neue-marburger-verhaltenstraining-mvt/
URL:https://www.jagenda.ch/events/das-neue-marburger-verhaltenstraining-mvt/
END:VEVENT
END:VCALENDAR