BEGIN:VCALENDAR
VERSION:2.0
PRODID:-//eventon.com NONSGML v1.0//EN
CALSCALE:GREGORIAN
METHOD:PUBLISH
BEGIN:VEVENT
UID:69e5ad6dafa2d
DTSTAMP:20260420T043701Z
DTSTART:20201119T080000Z
DTEND:20201120T160000Z
LOCATION:Familynetwork\,  Zofingen
SUMMARY:"Gesprächsführung und Konfliktmanagement für Schulsozialarbeitende"
DESCRIPTION:"Gesprächsführung und Konfliktmanagement für Schulsozialarbe
 itende"\nhttps://www.jagenda.ch/events/gespraechsfuehrung-und-konfliktmanag
 ement-fuer-schulsozialarbeitende/
URL:https://www.jagenda.ch/events/gespraechsfuehrung-und-konfliktmanagement-fuer-schulsozialarbeitende/
END:VEVENT
END:VCALENDAR