BEGIN:VCALENDAR
VERSION:2.0
PRODID:-//eventon.com NONSGML v1.0//EN
CALSCALE:GREGORIAN
METHOD:PUBLISH
BEGIN:VEVENT
UID:69e501b4ae68b
DTSTAMP:20260419T162420Z
DTSTART:20201113T080000Z
DTEND:20201113T130000Z
LOCATION:Centrum 66 Hirschengraben 66 8001 Zürich
SUMMARY:Fankultur und der Sozialraum Stadion – die Lebenswelt vieler Jugendlicher
DESCRIPTION:Fankultur und der Sozialraum Stadion – die Lebenswelt vieler 
 Jugendlicher\nhttps://www.jagenda.ch/events/fankultur-und-der-sozialraum-st
 adion-die-lebenswelt-vieler-jugendlicher/
URL:https://www.jagenda.ch/events/fankultur-und-der-sozialraum-stadion-die-lebenswelt-vieler-jugendlicher/
END:VEVENT
END:VCALENDAR