BEGIN:VCALENDAR
VERSION:2.0
PRODID:-//eventon.com NONSGML v1.0//EN
CALSCALE:GREGORIAN
METHOD:PUBLISH
BEGIN:VEVENT
UID:69e827f77dece
DTSTAMP:20260422T014423Z
DTSTART:20200911T150000Z
DTEND:20200910T220000Z
LOCATION:Rote Fabrik
SUMMARY:lila. queer festival
DESCRIPTION:Das einzige spartenübergreifende queere Kunstfestival der Schw
 eiz – in der einmaligen Atmosphäre der Roten Fabrik Zürich. Das ist uns
 ere Art\,  die Welt auf den Kopf zu stellen. Bei uns werden Identität\,  S
 exualität\,  Liebe\,  Körper\,  Identität und Freundschaft neu interpret
 iert.\nhttps://www.jagenda.ch/events/lila-queer-festival/
URL:https://www.jagenda.ch/events/lila-queer-festival/
END:VEVENT
END:VCALENDAR