BEGIN:VCALENDAR
VERSION:2.0
PRODID:-//eventon.com NONSGML v1.0//EN
CALSCALE:GREGORIAN
METHOD:PUBLISH
BEGIN:VEVENT
UID:69ecc809a1368
DTSTAMP:20260425T135625Z
DTSTART:20200527T121500Z
DTEND:20200527T151500Z
LOCATION:Haus Flörli Florastrasse 21\,  Olten
SUMMARY:Gewaltprävention im Klassenzimmer
DESCRIPTION:Gewaltprävention im Klassenzimmer\nhttps://www.jagenda.ch/even
 ts/gewaltpraevention-im-klassenzimmer/
URL:https://www.jagenda.ch/events/gewaltpraevention-im-klassenzimmer/
END:VEVENT
END:VCALENDAR