BEGIN:VCALENDAR
VERSION:2.0
PRODID:-//eventon.com NONSGML v1.0//EN
CALSCALE:GREGORIAN
METHOD:PUBLISH
BEGIN:VEVENT
UID:69ed6dbb09705
DTSTAMP:20260426T014323Z
DTSTART:20201201T074500Z
DTEND:20201201T160000Z
LOCATION:Zürich
SUMMARY:«Geht's noch?!»
DESCRIPTION:«Geht's noch?!»\nhttps://www.jagenda.ch/events/gehts-noch/
URL:https://www.jagenda.ch/events/gehts-noch/
END:VEVENT
END:VCALENDAR