BEGIN:VCALENDAR
VERSION:2.0
PRODID:-//eventon.com NONSGML v1.0//EN
CALSCALE:GREGORIAN
METHOD:PUBLISH
BEGIN:VEVENT
UID:69e888cd56a97
DTSTAMP:20260422T083733Z
DTSTART:20200905
DTEND:20200906
LOCATION:
SUMMARY:Wahlmodul Pionier/Survival
DESCRIPTION:Wahlmodul Pionier/Survival\nhttps://www.jagenda.ch/events/arbei
 tstag-brunni-mit-hv-foerderverein-pro-jungschar/
URL:https://www.jagenda.ch/events/arbeitstag-brunni-mit-hv-foerderverein-pro-jungschar/
END:VEVENT
END:VCALENDAR