BEGIN:VCALENDAR
VERSION:2.0
PRODID:-//eventon.com NONSGML v1.0//EN
CALSCALE:GREGORIAN
METHOD:PUBLISH
BEGIN:VEVENT
UID:69e9013c7b6c4
DTSTAMP:20260422T171124Z
DTSTART:20200711
DTEND:20200712
LOCATION:
SUMMARY:Grundschulung (GS) Ost Teil 2
DESCRIPTION:Grundschulung (GS) Ost Teil 2\nhttps://www.jagenda.ch/events/gr
 undschulung-gs-ost-teil-2/
URL:https://www.jagenda.ch/events/grundschulung-gs-ost-teil-2/
END:VEVENT
END:VCALENDAR