BEGIN:VCALENDAR
VERSION:2.0
PRODID:-//eventon.com NONSGML v1.0//EN
CALSCALE:GREGORIAN
METHOD:PUBLISH
BEGIN:VEVENT
UID:69eb4430a2ceb
DTSTAMP:20260424T102136Z
DTSTART:20200909
DTEND:20200910
LOCATION:Bösingen
SUMMARY:Fachgruppensitzung
DESCRIPTION:Fachgruppensitzung\nhttps://www.jagenda.ch/events/fachgruppensi
 tzung-2/
URL:https://www.jagenda.ch/events/fachgruppensitzung-2/
END:VEVENT
END:VCALENDAR