BEGIN:VCALENDAR
VERSION:2.0
PRODID:-//eventon.com NONSGML v1.0//EN
CALSCALE:GREGORIAN
METHOD:PUBLISH
BEGIN:VEVENT
UID:69e5c7383a8fd
DTSTAMP:20260420T062704Z
DTSTART:20201212T083000Z
DTEND:20201212T103000Z
LOCATION:Basel
SUMMARY:OKJAusbildung
DESCRIPTION:OKJAusbildung\nhttps://www.jagenda.ch/events/okjausbildung-3/
URL:https://www.jagenda.ch/events/okjausbildung-3/
END:VEVENT
END:VCALENDAR