BEGIN:VCALENDAR
VERSION:2.0
PRODID:-//eventon.com NONSGML v1.0//EN
CALSCALE:GREGORIAN
METHOD:PUBLISH
BEGIN:VEVENT
UID:69ece3a5790c1
DTSTAMP:20260425T155413Z
DTSTART:20201203T123000Z
DTEND:20201203T143000Z
LOCATION:Buchs
SUMMARY:JADIBU Netzwerktreffen
DESCRIPTION:JADIBU Netzwerktreffen\nhttps://www.jagenda.ch/events/jadibu-ne
 tzwerktreffen-2/
URL:https://www.jagenda.ch/events/jadibu-netzwerktreffen-2/
END:VEVENT
END:VCALENDAR