BEGIN:VCALENDAR
VERSION:2.0
PRODID:-//eventon.com NONSGML v1.0//EN
CALSCALE:GREGORIAN
METHOD:PUBLISH
BEGIN:VEVENT
UID:69ebf35414e53
DTSTAMP:20260424T224852Z
DTSTART:20201203T080000Z
DTEND:20201203T110000Z
LOCATION:Thalwil
SUMMARY:RAGJ Netzwerktreffen
DESCRIPTION:RAGJ Netzwerktreffen\nhttps://www.jagenda.ch/events/ragj-netzwe
 rktreffen-3/
URL:https://www.jagenda.ch/events/ragj-netzwerktreffen-3/
END:VEVENT
END:VCALENDAR