BEGIN:VCALENDAR
VERSION:2.0
PRODID:-//eventon.com NONSGML v1.0//EN
CALSCALE:GREGORIAN
METHOD:PUBLISH
BEGIN:VEVENT
UID:69e7200156fa1
DTSTAMP:20260421T065809Z
DTSTART:20200827T120000Z
DTEND:20200827T150000Z
LOCATION:Guntalingen
SUMMARY:OJA Weinland
DESCRIPTION:OJA Weinland\nhttps://www.jagenda.ch/events/oja-weinland-2/
URL:https://www.jagenda.ch/events/oja-weinland-2/
END:VEVENT
END:VCALENDAR