BEGIN:VCALENDAR
VERSION:2.0
PRODID:-//eventon.com NONSGML v1.0//EN
CALSCALE:GREGORIAN
METHOD:PUBLISH
BEGIN:VEVENT
UID:69ebb5ed20e2f
DTSTAMP:20260424T182653Z
DTSTART:20250327
DTEND:20250328
LOCATION:
SUMMARY:Panoramakurs zweiteilig (erster Teil)
DESCRIPTION:Panoramakurs zweiteilig (erster Teil)\nhttps://www.jagenda.ch/e
 vents/panoramakurs-zweiteilig-erster-teil/
URL:https://www.jagenda.ch/events/panoramakurs-zweiteilig-erster-teil/
END:VEVENT
END:VCALENDAR