BEGIN:VCALENDAR
VERSION:2.0
PRODID:-//eventon.com NONSGML v1.0//EN
CALSCALE:GREGORIAN
METHOD:PUBLISH
BEGIN:VEVENT
UID:69ea687e24640
DTSTAMP:20260423T184414Z
DTSTART:20251220
DTEND:20251221
LOCATION:folgt
SUMMARY:JUBLA Ranftreffen
DESCRIPTION:JUBLA Ranftreffen\nhttps://www.jagenda.ch/events/jubla-ranftref
 fen-3/
URL:https://www.jagenda.ch/events/jubla-ranftreffen-3/
END:VEVENT
END:VCALENDAR