BEGIN:VCALENDAR
VERSION:2.0
PRODID:-//eventon.com NONSGML v1.0//EN
CALSCALE:GREGORIAN
METHOD:PUBLISH
BEGIN:VEVENT
UID:69ed4a9f1c189
DTSTAMP:20260425T231335Z
DTSTART:20250522T200000Z
DTEND:20250523T000000Z
LOCATION:folgt
SUMMARY:FEJAZ 2/2025: Radikalisierung und Extremismus
DESCRIPTION:FEJAZ 2/2025: Radikalisierung und Extremismus\nhttps://www.jage
 nda.ch/events/fejaz-2-2025-radikalisierung-und-extremismus/
URL:https://www.jagenda.ch/events/fejaz-2-2025-radikalisierung-und-extremismus/
END:VEVENT
END:VCALENDAR