BEGIN:VCALENDAR
VERSION:2.0
PRODID:-//eventon.com NONSGML v1.0//EN
CALSCALE:GREGORIAN
METHOD:PUBLISH
BEGIN:VEVENT
UID:69ed34b4ede73
DTSTAMP:20260425T214004Z
DTSTART:20250925T203000Z
DTEND:20250925T230000Z
LOCATION:Zürich
SUMMARY:Fachgruppe Offene Arbeit mit Kindern FGK 2/2025
DESCRIPTION:Fachgruppe Offene Arbeit mit Kindern FGK 2/2025\nhttps://www.ja
 genda.ch/events/fachgruppe-offene-arbeit-mit-kindern-fgk-2-2025/
URL:https://www.jagenda.ch/events/fachgruppe-offene-arbeit-mit-kindern-fgk-2-2025/
END:VEVENT
END:VCALENDAR