BEGIN:VCALENDAR
VERSION:2.0
PRODID:-//eventon.com NONSGML v1.0//EN
CALSCALE:GREGORIAN
METHOD:PUBLISH
BEGIN:VEVENT
UID:69e9b9dca49e1
DTSTAMP:20260423T061908Z
DTSTART:20250918T203000Z
DTEND:20250918T230000Z
LOCATION:okaj zürich\,  Hafnerstrasse 60\,  8005 Zürich
SUMMARY:Fachgruppe Beratung OKJA 4/2025
DESCRIPTION:Fachgruppe Beratung OKJA 4/2025\nhttps://www.jagenda.ch/events/
 fachgruppe-beratung-okja-4-2025/
URL:https://www.jagenda.ch/events/fachgruppe-beratung-okja-4-2025/
END:VEVENT
END:VCALENDAR