BEGIN:VCALENDAR
VERSION:2.0
PRODID:-//eventon.com NONSGML v1.0//EN
CALSCALE:GREGORIAN
METHOD:PUBLISH
BEGIN:VEVENT
UID:69e4ed190f240
DTSTAMP:20260419T145625Z
DTSTART:20251211T090000Z
DTEND:20251211T110000Z
LOCATION:Zürich
SUMMARY:IG Queer 4/2025
DESCRIPTION:IG Queer 4/2025\nhttps://www.jagenda.ch/events/ig-queer-4-2025/
URL:https://www.jagenda.ch/events/ig-queer-4-2025/
END:VEVENT
END:VCALENDAR