BEGIN:VCALENDAR
VERSION:2.0
PRODID:-//eventon.com NONSGML v1.0//EN
CALSCALE:GREGORIAN
METHOD:PUBLISH
BEGIN:VEVENT
UID:69e7658736b94
DTSTAMP:20260421T115447Z
DTSTART:20250228T090000Z
DTEND:20250228T110000Z
LOCATION:Zürich
SUMMARY:Fachgruppe Arbeit mit Mädchen FAM 1/2025
DESCRIPTION:Fachgruppe Arbeit mit Mädchen FAM 1/2025\nhttps://www.jagenda.
 ch/events/fachgruppe-arbeit-mit-maedchen-fam-1-2025/
URL:https://www.jagenda.ch/events/fachgruppe-arbeit-mit-maedchen-fam-1-2025/
END:VEVENT
END:VCALENDAR