BEGIN:VCALENDAR
VERSION:2.0
PRODID:-//eventon.com NONSGML v1.0//EN
CALSCALE:GREGORIAN
METHOD:PUBLISH
BEGIN:VEVENT
UID:69e4e7645d2bb
DTSTAMP:20260419T143204Z
DTSTART:20250213T203000Z
DTEND:20250213T230000Z
LOCATION:okaj zürich\,  Hafnerstrasse 60\,  8005 Zürich
SUMMARY:Fachgruppe Beratung OKJA 1/2025
DESCRIPTION:Fachgruppe Beratung OKJA 1/2025\nhttps://www.jagenda.ch/events/
 fachgruppe-beratung-okja-1-2025/
URL:https://www.jagenda.ch/events/fachgruppe-beratung-okja-1-2025/
END:VEVENT
END:VCALENDAR