BEGIN:VCALENDAR
VERSION:2.0
PRODID:-//eventon.com NONSGML v1.0//EN
CALSCALE:GREGORIAN
METHOD:PUBLISH
BEGIN:VEVENT
UID:69ec258dc3b58
DTSTAMP:20260425T022309Z
DTSTART:20250306T080000Z
DTEND:20250306T110000Z
LOCATION:Wädenswil
SUMMARY:RAGJ-Treffen 1/2025
DESCRIPTION:RAGJ-Treffen 1/2025\nhttps://www.jagenda.ch/events/ragj-treffen
 -1-2025/
URL:https://www.jagenda.ch/events/ragj-treffen-1-2025/
END:VEVENT
END:VCALENDAR