BEGIN:VCALENDAR
VERSION:2.0
PRODID:-//eventon.com NONSGML v1.0//EN
CALSCALE:GREGORIAN
METHOD:PUBLISH
BEGIN:VEVENT
UID:69e91587c46cc
DTSTAMP:20260422T183759Z
DTSTART:20250311T193000Z
DTEND:20250311T230000Z
LOCATION:Bern
SUMMARY:voja-Tag & SteKo Frühling 2024
DESCRIPTION:voja-Tag &amp; SteKo Frühling 2024\nhttps://www.jagenda.ch/eve
 nts/voja-tag-steko-fruehling-2024-2/
URL:https://www.jagenda.ch/events/voja-tag-steko-fruehling-2024-2/
END:VEVENT
END:VCALENDAR